BEGIN:VCALENDAR
VERSION:2.0
PRODID:SchoolNow
CALSCALE:GREGORIAN
BEGIN:VEVENT
UID:8700eaba-e63b-11eb-b3a0-0a9c11f30fab
DTSTAMP:20210716T134130Z
SUMMARY:Registration starts for fall modified sports
URL;VALUE=URI:https://www.albanyschools.org/schools/northalbany/calendar/26
 39830/registration-starts-for-fall-high-school-sports-clone
DTSTART;VALUE=DATE:20210730
DTEND;VALUE=DATE:20210731
END:VEVENT
END:VCALENDAR
