BEGIN:VCALENDAR
VERSION:2.0
PRODID:SchoolNow
CALSCALE:GREGORIAN
BEGIN:VEVENT
UID:9b46cbfc-e63b-11eb-92de-0a9c11f30fab
DTSTAMP:20210716T134204Z
SUMMARY:Fall modified sports begin
URL;VALUE=URI:https://www.albanyschools.org/schools/northalbany/calendar/26
 39836/fall-high-school-sports-begin-clone
DTSTART;VALUE=DATE:20210830
DTEND;VALUE=DATE:20210831
END:VEVENT
END:VCALENDAR
