BEGIN:VCALENDAR
VERSION:2.0
PRODID:SchoolNow
CALSCALE:GREGORIAN
BEGIN:VEVENT
UID:4fa23096-efd3-11eb-8770-0eb4964f54db
DTSTAMP:20210728T185221Z
SUMMARY:Albany High academy lottery applications due
URL;VALUE=URI:https://www.albanyschools.org/schools/northalbany/calendar/26
 49618/albany-high-academy-lottery-applications-due
DTSTART;VALUE=DATE:20211112
DTEND;VALUE=DATE:20211113
END:VEVENT
END:VCALENDAR
