BEGIN:VCALENDAR
VERSION:2.0
PRODID:SchoolNow
CALSCALE:GREGORIAN
BEGIN:VEVENT
UID:53670432-f617-11eb-9c86-0ad5a9a2b791
DTSTAMP:20210805T180240Z
SUMMARY:Volleyball workouts
URL;VALUE=URI:https://www.albanyschools.org/schools/northalbany/calendar/26
 56235/volleyball-workouts-clone
DTSTART:20210809T173500Z
DTEND:20210811T183500Z
END:VEVENT
END:VCALENDAR
