BEGIN:VCALENDAR
VERSION:2.0
PRODID:SchoolNow
CALSCALE:GREGORIAN
BEGIN:VEVENT
UID:b84e295a-fad8-11eb-ab7b-0e5e64eae037
DTSTAMP:20210811T191707Z
SUMMARY:North Albany Middle School Transition Camp
URL;VALUE=URI:https://www.albanyschools.org/schools/northalbany/calendar/26
 67669/north-albany-middle-school-transition-camp
DTSTART:20210824T120000Z
DTEND:20210826T153000Z
END:VEVENT
END:VCALENDAR
