BEGIN:VCALENDAR
VERSION:2.0
PRODID:SchoolNow
CALSCALE:GREGORIAN
BEGIN:VEVENT
UID:dc38210a-0509-11ec-a605-0ee8541b5ca3
DTSTAMP:20210927T171316Z
SUMMARY:Open House
URL;VALUE=URI:https://www.albanyschools.org/schools/northalbany/calendar/26
 87106/community-bbq-open-house
DTSTART:20210928T220000Z
DTEND:20210928T233000Z
END:VEVENT
END:VCALENDAR
