BEGIN:VCALENDAR
VERSION:2.0
PRODID:SchoolNow
CALSCALE:GREGORIAN
BEGIN:VEVENT
UID:f343c200-0509-11ec-83b5-022547f589a1
DTSTAMP:20210824T183443Z
SUMMARY:First PTO meeting
URL;VALUE=URI:https://www.albanyschools.org/schools/northalbany/calendar/26
 87107/first-pto-meeting
DTSTART:20210922T230000Z
DTEND:20210923T000000Z
END:VEVENT
END:VCALENDAR
