BEGIN:VCALENDAR
VERSION:2.0
PRODID:SchoolNow
CALSCALE:GREGORIAN
BEGIN:VEVENT
UID:81ee1414-278e-11ec-99c0-025264e55f83
DTSTAMP:20211007T164916Z
SUMMARY:Bowling interest meeting for 2021-22 season
URL;VALUE=URI:https://www.albanyschools.org/schools/northalbany/calendar/27
 98341/bowling-interest-meeting-for-2021-22-season
DTSTART:20211014T220000Z
DTEND:20211014T230000Z
END:VEVENT
END:VCALENDAR
