BEGIN:VCALENDAR
VERSION:2.0
PRODID:SchoolNow
CALSCALE:GREGORIAN
BEGIN:VEVENT
UID:d1efa25e-4186-11ec-a67d-0e880cd547e9
DTSTAMP:20211109T175944Z
SUMMARY:Harvest Festival
URL;VALUE=URI:https://www.albanyschools.org/schools/northalbany/calendar/28
 80976/harvest-festival
DTSTART:20211118T200000Z
DTEND:20211118T220000Z
END:VEVENT
END:VCALENDAR
