BEGIN:VCALENDAR
VERSION:2.0
PRODID:SchoolNow
CALSCALE:GREGORIAN
BEGIN:VEVENT
UID:ea0245a2-5137-11ec-abbf-0e60a8ae0e75
DTSTAMP:20211129T171513Z
SUMMARY:Meet the Coaches (mandatory virtual meeting)
URL;VALUE=URI:https://www.albanyschools.org/schools/northalbany/calendar/29
 19192/meet-the-coaches-mandatory-virtual-meeting
DTSTART:20211129T230000Z
DTEND:20211130T005000Z
END:VEVENT
END:VCALENDAR
