BEGIN:VCALENDAR
VERSION:2.0
PRODID:SchoolNow
CALSCALE:GREGORIAN
BEGIN:VEVENT
UID:1ba1c238-88ea-11ec-935a-0a8d1d4ab3e3
DTSTAMP:20220208T141920Z
SUMMARY:PTO Meeting
URL;VALUE=URI:https://www.albanyschools.org/schools/northalbany/calendar/30
 95694/pto-meeting
DTSTART:20220302T220000Z
DTEND:20220302T230000Z
END:VEVENT
END:VCALENDAR
