BEGIN:VCALENDAR
VERSION:2.0
PRODID:SchoolNow
CALSCALE:GREGORIAN
BEGIN:VEVENT
UID:3fba8a78-8a99-11ec-8b87-02b955db6ebf
DTSTAMP:20220210T174534Z
SUMMARY:Black History Month: Meet the Author (Ayyub Ali)
URL;VALUE=URI:https://www.albanyschools.org/schools/northalbany/calendar/30
 99113/black-history-month-meet-the-author-ayyub-ali
DTSTART:20220217T210000Z
DTEND:20220217T220000Z
END:VEVENT
END:VCALENDAR
