BEGIN:VCALENDAR
VERSION:2.0
PRODID:SchoolNow
CALSCALE:GREGORIAN
BEGIN:VEVENT
UID:1d15b8c8-8f56-11ec-8c2c-0ad5080fb36b
DTSTAMP:20220216T182735Z
SUMMARY:NAMS Community Meeting
URL;VALUE=URI:https://www.albanyschools.org/schools/northalbany/calendar/31
 06543/nams-community-meeting
DTSTART:20220217T143000Z
DTEND:20220217T153000Z
END:VEVENT
END:VCALENDAR
