BEGIN:VCALENDAR
VERSION:2.0
PRODID:SchoolNow
CALSCALE:GREGORIAN
BEGIN:VEVENT
UID:422deefa-8f56-11ec-bc5d-0ad5080fb36b
DTSTAMP:20220216T183316Z
SUMMARY:NAMS Community Meeting
URL;VALUE=URI:https://www.albanyschools.org/schools/northalbany/calendar/31
 06544/nams-community-meeting
DTSTART:20220217T223000Z
DTEND:20220217T233000Z
END:VEVENT
END:VCALENDAR
