BEGIN:VCALENDAR
VERSION:2.0
PRODID:SchoolNow
CALSCALE:GREGORIAN
BEGIN:VEVENT
UID:795f03aa-8f56-11ec-b0f3-0edc4bcf9893
DTSTAMP:20220216T183056Z
SUMMARY:Early dismissal for students
URL;VALUE=URI:https://www.albanyschools.org/schools/northalbany/calendar/31
 06545/early-dismissal-for-students
DTSTART:20220203T130000Z
DTEND:20220207T180000Z
END:VEVENT
END:VCALENDAR
