BEGIN:VCALENDAR
VERSION:2.0
PRODID:SchoolNow
CALSCALE:GREGORIAN
BEGIN:VEVENT
UID:8e3538e4-8f56-11ec-899d-0a1c7b83d777
DTSTAMP:20220216T183045Z
SUMMARY:Early dismissal for students
URL;VALUE=URI:https://www.albanyschools.org/schools/northalbany/calendar/31
 06547/early-dismissal-for-students-clone
DTSTART:20220202T130000Z
DTEND:20220206T180000Z
END:VEVENT
END:VCALENDAR
