BEGIN:VCALENDAR
VERSION:2.0
PRODID:SchoolNow
CALSCALE:GREGORIAN
BEGIN:VEVENT
UID:c097f010-8f56-11ec-997e-02d61795e78b
DTSTAMP:20220228T135841Z
SUMMARY:Early dismissal for students
URL;VALUE=URI:https://www.albanyschools.org/schools/northalbany/calendar/31
 06552/early-dismissal-for-students-clone-clone
DTSTART:20220228T130000Z
DTEND:20220228T180000Z
END:VEVENT
END:VCALENDAR
