BEGIN:VCALENDAR
VERSION:2.0
PRODID:SchoolNow
CALSCALE:GREGORIAN
BEGIN:VEVENT
UID:977c9b80-989e-11ec-932e-0e218f9206f7
DTSTAMP:20220228T135905Z
SUMMARY:Early dismissal for students
URL;VALUE=URI:https://www.albanyschools.org/schools/northalbany/calendar/31
 18680/early-dismissal-for-students-clone-clone-clone
DTSTART:20220301T130000Z
DTEND:20220301T180000Z
END:VEVENT
END:VCALENDAR
