BEGIN:VCALENDAR
VERSION:2.0
PRODID:SchoolNow
CALSCALE:GREGORIAN
BEGIN:VEVENT
UID:a0d11ad0-989e-11ec-9795-0e218f9206f7
DTSTAMP:20220228T135921Z
SUMMARY:Early dismissal for students
URL;VALUE=URI:https://www.albanyschools.org/schools/northalbany/calendar/31
 18681/early-dismissal-for-students-clone-clone-clone
DTSTART:20220302T130000Z
DTEND:20220302T180000Z
END:VEVENT
END:VCALENDAR
