BEGIN:VCALENDAR
VERSION:2.0
PRODID:SchoolNow
CALSCALE:GREGORIAN
BEGIN:VEVENT
UID:2b3d7054-a6bb-11ec-b4b8-0ed649a1abd5
DTSTAMP:20220318T125855Z
SUMMARY:Picture Day
URL;VALUE=URI:https://www.albanyschools.org/schools/northalbany/calendar/31
 36554/picture-day
DTSTART:20220322T120000Z
DTEND:20220322T190000Z
END:VEVENT
END:VCALENDAR
