BEGIN:VCALENDAR
VERSION:2.0
PRODID:SchoolNow
CALSCALE:GREGORIAN
BEGIN:VEVENT
UID:2a54fdd6-b5ae-11ec-bc51-0e0aa255ad5b
DTSTAMP:20220406T133338Z
SUMMARY:Spring Concert
URL;VALUE=URI:https://www.albanyschools.org/schools/northalbany/calendar/31
 54964/spring-concert
DTSTART:20220607T203000Z
DTEND:20220607T213000Z
END:VEVENT
END:VCALENDAR
