BEGIN:VCALENDAR
VERSION:2.0
PRODID:SchoolNow
CALSCALE:GREGORIAN
BEGIN:VEVENT
UID:12931cec-cfcf-11ec-b0f2-0226816bd9a5
DTSTAMP:20220530T235333Z
SUMMARY:Middle School Musical: 'Moana Jr.'
LOCATION:Hackett Middle School\, 45 Delaware Ave.
URL;VALUE=URI:https://www.albanyschools.org/schools/northalbany/calendar/31
 93544/middle-school-musical-moana-jr
DTSTART:20220603T233000Z
DTEND:20220604T003000Z
END:VEVENT
END:VCALENDAR
