BEGIN:VCALENDAR
VERSION:2.0
PRODID:SchoolNow
CALSCALE:GREGORIAN
BEGIN:VEVENT
UID:36ffcd14-cfcf-11ec-8e55-0e918883c875
DTSTAMP:20220509T193542Z
SUMMARY:Middle School Musical: 'Moana Jr.'
LOCATION:Hackett Middle School\, 45 Delaware Ave.
URL;VALUE=URI:https://www.albanyschools.org/schools/northalbany/calendar/31
 93550/middle-school-musical-moana-jr
DTSTART:20220604T203000Z
DTEND:20220604T213000Z
END:VEVENT
END:VCALENDAR
