BEGIN:VCALENDAR
VERSION:2.0
PRODID:SchoolNow
CALSCALE:GREGORIAN
BEGIN:VEVENT
UID:77269d72-db9c-11ec-ad32-02460f660a77
DTSTAMP:20220524T200240Z
SUMMARY:Grade 8 Moving Up Ceremony
URL;VALUE=URI:https://www.albanyschools.org/schools/northalbany/calendar/32
 05338/grade-8-moving-up-ceremony
DTSTART:20220624T140000Z
DTEND:20220624T150000Z
END:VEVENT
END:VCALENDAR
