BEGIN:VCALENDAR
VERSION:2.0
PRODID:SchoolNow
CALSCALE:GREGORIAN
BEGIN:VEVENT
UID:54ed0d62-e1ba-11ec-bb4a-0e786fa374e3
DTSTAMP:20220601T145134Z
SUMMARY:Middle School Information Night
URL;VALUE=URI:https://www.albanyschools.org/schools/northalbany/calendar/32
 09766/middle-school-information-night
DTSTART:20220615T213000Z
DTEND:20220615T223000Z
END:VEVENT
END:VCALENDAR
