BEGIN:VCALENDAR
VERSION:2.0
PRODID:SchoolNow
CALSCALE:GREGORIAN
BEGIN:VEVENT
UID:d0e84520-e1c0-11ec-954d-0aac5e4ed219
DTSTAMP:20220615T172139Z
SUMMARY:Falcon Cup
URL;VALUE=URI:https://www.albanyschools.org/schools/northalbany/calendar/32
 09772/falcon-cup
DTSTART:20220617T201500Z
DTEND:20220617T211500Z
END:VEVENT
END:VCALENDAR
