BEGIN:VCALENDAR
VERSION:2.0
PRODID:SchoolNow
CALSCALE:GREGORIAN
BEGIN:VEVENT
UID:14f1191c-e668-11ec-aa10-0e786fa374e3
DTSTAMP:20220607T134534Z
SUMMARY:Grade 8 celebration
URL;VALUE=URI:https://www.albanyschools.org/schools/northalbany/calendar/32
 13060/grade-8-celebration
DTSTART:20220622T040000Z
DTEND:20220622T050000Z
END:VEVENT
END:VCALENDAR
