BEGIN:VCALENDAR
VERSION:2.0
PRODID:SchoolNow
CALSCALE:GREGORIAN
BEGIN:VEVENT
UID:fb3ad20c-eb48-11ec-b5ca-02f7a0dded9d
DTSTAMP:20220615T143015Z
SUMMARY:Girls' tennis informational meeting
URL;VALUE=URI:https://www.albanyschools.org/schools/northalbany/calendar/32
 18592/girls-tennis-informational-meeting
DTSTART:20220616T193000Z
DTEND:20220616T203000Z
END:VEVENT
END:VCALENDAR
