BEGIN:VCALENDAR
VERSION:2.0
PRODID:SchoolNow
CALSCALE:GREGORIAN
BEGIN:VEVENT
UID:cd837d16-fc62-11ec-8c1d-0aeab622e103
DTSTAMP:20220815T142031Z
SUMMARY:Winter modified sports sign-ups begin
URL;VALUE=URI:https://www.albanyschools.org/schools/northalbany/calendar/32
 37105/winter-modified-sports-sign-up-begins
DTSTART;VALUE=DATE:20221021
DTEND;VALUE=DATE:20221022
END:VEVENT
END:VCALENDAR
