BEGIN:VCALENDAR
VERSION:2.0
PRODID:SchoolNow
CALSCALE:GREGORIAN
BEGIN:VEVENT
UID:52cb56d8-fc63-11ec-bdd2-022f122b4025
DTSTAMP:20220815T142054Z
SUMMARY:Spring modified sports sign-ups begin
URL;VALUE=URI:https://www.albanyschools.org/schools/northalbany/calendar/32
 37114/spring-modified-sports-sign-up-begins
DTSTART;VALUE=DATE:20230227
DTEND;VALUE=DATE:20230228
END:VEVENT
END:VCALENDAR
