BEGIN:VCALENDAR
VERSION:2.0
PRODID:SchoolNow
CALSCALE:GREGORIAN
BEGIN:VEVENT
UID:ed923946-0e99-11ed-aa30-0e18029603a5
DTSTAMP:20220728T172259Z
SUMMARY:Transition Camp (rising sixth graders only)
URL;VALUE=URI:https://www.albanyschools.org/schools/northalbany/calendar/32
 57776/transition-camp-rising-sixth-graders-only
DTSTART:20220823T120000Z
DTEND:20220825T153000Z
END:VEVENT
END:VCALENDAR
