BEGIN:VCALENDAR
VERSION:2.0
PRODID:SchoolNow
CALSCALE:GREGORIAN
BEGIN:VEVENT
UID:08a497f6-0e9a-11ed-9cc1-024d55d6e7ef
DTSTAMP:20220823T145113Z
SUMMARY:Information Night for grade 6 parents/guardians
URL;VALUE=URI:https://www.albanyschools.org/schools/northalbany/calendar/32
 57777/information-night-for-parents-guardians-grades-6-8
DTSTART:20220825T200000Z
DTEND:20220825T223000Z
END:VEVENT
END:VCALENDAR
