BEGIN:VCALENDAR
VERSION:2.0
PRODID:SchoolNow
CALSCALE:GREGORIAN
BEGIN:VEVENT
UID:3a1fbe84-17fd-11ed-b52b-02d025cb5fd7
DTSTAMP:20220809T160640Z
SUMMARY:First days of school: North Albany
DESCRIPTION:View event details for a look at which grades attend which day 
 on Thursday 9/1 and Friday 9/2.
URL;VALUE=URI:https://www.albanyschools.org/schools/northalbany/calendar/32
 74755/first-days-of-school-north-albany
DTSTART;VALUE=DATE:20220901
DTEND;VALUE=DATE:20220903
END:VEVENT
END:VCALENDAR
