BEGIN:VCALENDAR
VERSION:2.0
PRODID:SchoolNow
CALSCALE:GREGORIAN
BEGIN:VEVENT
UID:c37057b8-1ca1-11ed-8d04-02013ad6b03f
DTSTAMP:20220815T135421Z
SUMMARY:SECONDARY MARKING PERIOD (3/3)
URL;VALUE=URI:https://www.albanyschools.org/schools/northalbany/calendar/32
 82180/secondary-marking-period-3-3
DTSTART;VALUE=DATE:20230303
DTEND;VALUE=DATE:20230304
END:VEVENT
END:VCALENDAR
