BEGIN:VCALENDAR
VERSION:2.0
PRODID:SchoolNow
CALSCALE:GREGORIAN
BEGIN:VEVENT
UID:de6155a4-1ca1-11ed-ac74-02013ad6b03f
DTSTAMP:20220815T135506Z
SUMMARY:SECONDARY MARKING PERIOD (5/19)
URL;VALUE=URI:https://www.albanyschools.org/schools/northalbany/calendar/32
 82192/secondary-marking-period-5-19
DTSTART;VALUE=DATE:20230519
DTEND;VALUE=DATE:20230520
END:VEVENT
END:VCALENDAR
