BEGIN:VCALENDAR
VERSION:2.0
PRODID:SchoolNow
CALSCALE:GREGORIAN
BEGIN:VEVENT
UID:f3e2e9aa-1ca2-11ed-a009-0298f1c1417d
DTSTAMP:20220815T140252Z
SUMMARY:Albany High 2023-24 academy lottery apps available
URL;VALUE=URI:https://www.albanyschools.org/schools/northalbany/calendar/32
 82228/albany-high-2023-24-academy-lottery-apps-available
DTSTART;VALUE=DATE:20221011
DTEND;VALUE=DATE:20221012
END:VEVENT
END:VCALENDAR
