BEGIN:VCALENDAR
VERSION:2.0
PRODID:SchoolNow
CALSCALE:GREGORIAN
BEGIN:VEVENT
UID:03c95746-1ca3-11ed-94a5-0298f1c1417d
DTSTAMP:20220815T140318Z
SUMMARY:Albany High 2023-24 academy lottery drawing
URL;VALUE=URI:https://www.albanyschools.org/schools/northalbany/calendar/32
 82236/albany-high-2023-24-academy-lottery-drawing
DTSTART;VALUE=DATE:20221209
DTEND;VALUE=DATE:20221210
END:VEVENT
END:VCALENDAR
