BEGIN:VCALENDAR
VERSION:2.0
PRODID:SchoolNow
CALSCALE:GREGORIAN
BEGIN:VEVENT
UID:10cd9830-1e6a-11ed-9788-0edd9defd4e3
DTSTAMP:20220817T202740Z
SUMMARY:North Albany Ribbon Cutting & Tour
URL;VALUE=URI:https://www.albanyschools.org/schools/northalbany/calendar/32
 85411/north-albany-ribbon-cutting-tour
DTSTART:20220826T213000Z
DTEND:20220826T230000Z
END:VEVENT
END:VCALENDAR
