BEGIN:VCALENDAR
VERSION:2.0
PRODID:SchoolNow
CALSCALE:GREGORIAN
BEGIN:VEVENT
UID:978fdb44-3445-11ed-b8c0-0efb8bc5f91f
DTSTAMP:20220920T160010Z
SUMMARY:Open House/Back to School Night
URL;VALUE=URI:https://www.albanyschools.org/schools/northalbany/calendar/33
 91218/open-house-back-to-school-night
DTSTART:20220921T213000Z
DTEND:20220921T233000Z
END:VEVENT
END:VCALENDAR
