BEGIN:VCALENDAR
VERSION:2.0
PRODID:SchoolNow
CALSCALE:GREGORIAN
BEGIN:VEVENT
UID:70b7cdc0-39cb-11ed-8f30-0eedbd66615b
DTSTAMP:20220921T163545Z
SUMMARY:Tree Planting with the Vegetable Project
URL;VALUE=URI:https://www.albanyschools.org/schools/northalbany/calendar/34
 23576/tree-planting-with-the-vegetable-project
DTSTART:20220928T163500Z
DTEND:20220928T173500Z
END:VEVENT
END:VCALENDAR
