BEGIN:VCALENDAR
VERSION:2.0
PRODID:SchoolNow
CALSCALE:GREGORIAN
BEGIN:VEVENT
UID:dfbe75b0-4af7-11ed-8b77-0ef5d7e15545
DTSTAMP:20221013T130638Z
SUMMARY:PTA meeting
URL;VALUE=URI:https://www.albanyschools.org/schools/northalbany/calendar/35
 15560/pta-meeting
DTSTART:20221026T220000Z
DTEND:20221026T233000Z
END:VEVENT
END:VCALENDAR
