BEGIN:VCALENDAR
VERSION:2.0
PRODID:SchoolNow
CALSCALE:GREGORIAN
BEGIN:VEVENT
UID:675564c8-4e5b-11ed-b5a4-0a0185b07735
DTSTAMP:20221017T203640Z
SUMMARY:MIDDLE SCHOOLS DISMISS EARLY (11/16)
URL;VALUE=URI:https://www.albanyschools.org/schools/northalbany/calendar/35
 30934/middle-schools-dismiss-early-11-16
DTSTART:20221116T183000Z
DTEND:20221116T193000Z
END:VEVENT
END:VCALENDAR
