BEGIN:VCALENDAR
VERSION:2.0
PRODID:SchoolNow
CALSCALE:GREGORIAN
BEGIN:VEVENT
UID:85eec58c-4e5b-11ed-9f50-0a0185b07735
DTSTAMP:20221017T203731Z
SUMMARY:MIDDLE SCHOOLS DISMISS EARLY (1/18)
URL;VALUE=URI:https://www.albanyschools.org/schools/northalbany/calendar/35
 31391/middle-schools-dismiss-early-1-18
DTSTART:20230118T183000Z
DTEND:20230118T193000Z
END:VEVENT
END:VCALENDAR
