BEGIN:VCALENDAR
VERSION:2.0
PRODID:SchoolNow
CALSCALE:GREGORIAN
BEGIN:VEVENT
UID:a2647072-4e5b-11ed-b237-0a0185b07735
DTSTAMP:20221017T203819Z
SUMMARY:MIDDLE SCHOOLS DISMISS EARLY (2/15)
URL;VALUE=URI:https://www.albanyschools.org/schools/northalbany/calendar/35
 31400/middle-schools-dismiss-early-2-15
DTSTART:20230215T183000Z
DTEND:20230215T193000Z
END:VEVENT
END:VCALENDAR
