BEGIN:VCALENDAR
VERSION:2.0
PRODID:SchoolNow
CALSCALE:GREGORIAN
BEGIN:VEVENT
UID:c27d5874-4e5b-11ed-9fa7-0a0185b07735
DTSTAMP:20221017T203913Z
SUMMARY:MIDDLE SCHOOLS DISMISS EARLY (3/15)
URL;VALUE=URI:https://www.albanyschools.org/schools/northalbany/calendar/35
 31406/middle-schools-dismiss-early-3-15
DTSTART:20230315T173000Z
DTEND:20230315T183000Z
END:VEVENT
END:VCALENDAR
