BEGIN:VCALENDAR
VERSION:2.0
PRODID:SchoolNow
CALSCALE:GREGORIAN
BEGIN:VEVENT
UID:f8ea3392-4fd1-11ed-b7fa-023dc334880b
DTSTAMP:20221019T171756Z
SUMMARY:Winter concert
URL;VALUE=URI:https://www.albanyschools.org/schools/northalbany/calendar/35
 40691/winter-concert
DTSTART:20221201T230000Z
DTEND:20221202T000000Z
END:VEVENT
END:VCALENDAR
