BEGIN:VCALENDAR
VERSION:2.0
PRODID:SchoolNow
CALSCALE:GREGORIAN
BEGIN:VEVENT
UID:738185d6-5097-11ed-812f-023dc334880b
DTSTAMP:20221020T165132Z
SUMMARY:Parent Coffee Chat: Getting to Know Eachother
URL;VALUE=URI:https://www.albanyschools.org/schools/northalbany/calendar/35
 44114/parent-coffee-chat-getting-to-know-eachother
DTSTART:20221027T120000Z
DTEND:20221027T130000Z
END:VEVENT
END:VCALENDAR
