BEGIN:VCALENDAR
VERSION:2.0
PRODID:SchoolNow
CALSCALE:GREGORIAN
BEGIN:VEVENT
UID:8a1e0206-5097-11ed-b9fb-0a13f1600861
DTSTAMP:20221020T165318Z
SUMMARY:Parent Coffee Chat: What does the start line look like?
URL;VALUE=URI:https://www.albanyschools.org/schools/northalbany/calendar/35
 44115/parent-coffee-chat-what-does-the-start-line-look-like
DTSTART:20221117T130000Z
DTEND:20221117T140000Z
END:VEVENT
END:VCALENDAR
