BEGIN:VCALENDAR
VERSION:2.0
PRODID:SchoolNow
CALSCALE:GREGORIAN
BEGIN:VEVENT
UID:aa0b52a8-5097-11ed-999c-0e7a566f6c57
DTSTAMP:20221020T165304Z
SUMMARY:Parent Coffee Chat: Time off\, is it really?
URL;VALUE=URI:https://www.albanyschools.org/schools/northalbany/calendar/35
 44116/parent-coffee-chat-time-off-is-it-really
DTSTART:20221215T130000Z
DTEND:20221215T140000Z
END:VEVENT
END:VCALENDAR
