BEGIN:VCALENDAR
VERSION:2.0
PRODID:SchoolNow
CALSCALE:GREGORIAN
BEGIN:VEVENT
UID:d4a57246-5097-11ed-89b0-0a1761be6beb
DTSTAMP:20221020T165415Z
SUMMARY:Parent Coffee Chat: The 3 Rs (reset\, reboot\, re-engage)
URL;VALUE=URI:https://www.albanyschools.org/schools/northalbany/calendar/35
 44117/parent-coffee-chat-the-3-rs-reset-reboot-re-engage
DTSTART:20230119T130000Z
DTEND:20230119T140000Z
END:VEVENT
END:VCALENDAR
